BEGIN:VCALENDAR
VERSION:2.0
PRODID:-//The European School of Tai Chi Chuan - ECPv6.15.20//NONSGML v1.0//EN
CALSCALE:GREGORIAN
METHOD:PUBLISH
X-WR-CALNAME:The European School of Tai Chi Chuan
X-ORIGINAL-URL:https://www.metta-taichi.org.uk
X-WR-CALDESC:Events for The European School of Tai Chi Chuan
REFRESH-INTERVAL;VALUE=DURATION:PT1H
X-Robots-Tag:noindex
X-PUBLISHED-TTL:PT1H
BEGIN:VTIMEZONE
TZID:Europe/London
BEGIN:DAYLIGHT
TZOFFSETFROM:+0000
TZOFFSETTO:+0100
TZNAME:BST
DTSTART:20190331T010000
END:DAYLIGHT
BEGIN:STANDARD
TZOFFSETFROM:+0100
TZOFFSETTO:+0000
TZNAME:GMT
DTSTART:20191027T010000
END:STANDARD
BEGIN:DAYLIGHT
TZOFFSETFROM:+0000
TZOFFSETTO:+0100
TZNAME:BST
DTSTART:20200329T010000
END:DAYLIGHT
BEGIN:STANDARD
TZOFFSETFROM:+0100
TZOFFSETTO:+0000
TZNAME:GMT
DTSTART:20201025T010000
END:STANDARD
BEGIN:DAYLIGHT
TZOFFSETFROM:+0000
TZOFFSETTO:+0100
TZNAME:BST
DTSTART:20210328T010000
END:DAYLIGHT
BEGIN:STANDARD
TZOFFSETFROM:+0100
TZOFFSETTO:+0000
TZNAME:GMT
DTSTART:20211031T010000
END:STANDARD
END:VTIMEZONE
BEGIN:VEVENT
DTSTART;TZID=Europe/London:20201204T190000
DTEND;TZID=Europe/London:20201205T180000
DTSTAMP:20260423T074735
CREATED:20201121T165229Z
LAST-MODIFIED:20201121T165229Z
UID:6389-1607108400-1607191200@www.metta-taichi.org.uk
SUMMARY:Inner Aesthetics - Online Workshop
DESCRIPTION:[vc_row][vc_column][vc_column_text] \nThis streamed workshop explores authenticity in being and movement through three perspectives and practices with:\nTew Bunnag – The 5 Elements in Movement\nJos Hadfield – Calligraphy and Authenticity   and\nDenys Blacker – Inner Aesthetics as Right Action \nThe course will be in Spanish and English with simultaneous translation. \nFor full details\, see brochure HERE \n[/vc_column_text][/vc_column][/vc_row]
URL:https://www.metta-taichi.org.uk/event/inner-aesthetics-online-workshop/
ATTACH;FMTTYPE=:
END:VEVENT
END:VCALENDAR